BEGIN:VCALENDAR
VERSION:2.0
PRODID:icalendar-ruby
CALSCALE:GREGORIAN
METHOD:PUBLISH
BEGIN:VEVENT
DTSTAMP:20260421T143936Z
UID:22-1224299@fbcboisecity.org
DTSTART:20261011T230000Z
DTEND:20261012T000000Z
CLASS:PUBLIC
CREATED:20260421T083606
DESCRIPTION:
LAST-MODIFIED:20260421T083606
LOCATION:
SUMMARY:Youth Bible Study
URL;VALUE=URI:https://fbcboisecity.org/events/youth-bible-study/2026-10-11
ATTACH;FILENAME=FzpWW.jpg;FMTTYPE=image/jpeg:https://dq5pwpg1q8ru0.cloudfro
 nt.net/2026/01/15/17/51/36/d290acf6-196a-41ef-a92d-a72767873fd6/FzpWW.jpg
END:VEVENT
END:VCALENDAR
