BEGIN:VCALENDAR
VERSION:2.0
PRODID:icalendar-ruby
CALSCALE:GREGORIAN
METHOD:PUBLISH
BEGIN:VEVENT
DTSTAMP:20260421T174649Z
UID:22-1224696@fbcboisecity.org
DTSTART:20261025T230000Z
DTEND:20261026T000000Z
CLASS:PUBLIC
CREATED:20260421T111347
DESCRIPTION:
LAST-MODIFIED:20260421T111347
LOCATION:
SUMMARY:Youth Bible Study
URL;VALUE=URI:https://fbcboisecity.org/events/youth-bible-study/2026-10-25
ATTACH;FILENAME=FzpWW.jpg;FMTTYPE=image/jpeg:https://dq5pwpg1q8ru0.cloudfro
 nt.net/2026/01/15/17/51/36/d290acf6-196a-41ef-a92d-a72767873fd6/FzpWW.jpg
END:VEVENT
END:VCALENDAR
