BEGIN:VCALENDAR
VERSION:2.0
PRODID:icalendar-ruby
CALSCALE:GREGORIAN
METHOD:PUBLISH
BEGIN:VEVENT
DTSTAMP:20260421T193606Z
UID:22-1225092@fbcboisecity.org
DTSTART:20261102T000000Z
DTEND:20261102T010000Z
CLASS:PUBLIC
CREATED:20260421T135153
DESCRIPTION:
LAST-MODIFIED:20260421T135153
LOCATION:
SUMMARY:Youth Bible Study
URL;VALUE=URI:https://fbcboisecity.org/events/youth-bible-study/2026-11-01
ATTACH;FILENAME=FzpWW.jpg;FMTTYPE=image/jpeg:https://dq5pwpg1q8ru0.cloudfro
 nt.net/2026/01/15/17/51/36/d290acf6-196a-41ef-a92d-a72767873fd6/FzpWW.jpg
END:VEVENT
END:VCALENDAR
